BEGIN:VCALENDAR
VERSION:2.0
PRODID:-//Lüneburgs Lieblinge - ECPv6.15.20//NONSGML v1.0//EN
CALSCALE:GREGORIAN
METHOD:PUBLISH
X-WR-CALNAME:Lüneburgs Lieblinge
X-ORIGINAL-URL:https://lueneburgs-lieblinge.de
X-WR-CALDESC:Veranstaltungen für Lüneburgs Lieblinge
REFRESH-INTERVAL;VALUE=DURATION:PT1H
X-Robots-Tag:noindex
X-PUBLISHED-TTL:PT1H
BEGIN:VTIMEZONE
TZID:Europe/Berlin
BEGIN:DAYLIGHT
TZOFFSETFROM:+0100
TZOFFSETTO:+0200
TZNAME:CEST
DTSTART:20250330T010000
END:DAYLIGHT
BEGIN:STANDARD
TZOFFSETFROM:+0200
TZOFFSETTO:+0100
TZNAME:CET
DTSTART:20251026T010000
END:STANDARD
BEGIN:DAYLIGHT
TZOFFSETFROM:+0100
TZOFFSETTO:+0200
TZNAME:CEST
DTSTART:20260329T010000
END:DAYLIGHT
BEGIN:STANDARD
TZOFFSETFROM:+0200
TZOFFSETTO:+0100
TZNAME:CET
DTSTART:20261025T010000
END:STANDARD
BEGIN:DAYLIGHT
TZOFFSETFROM:+0100
TZOFFSETTO:+0200
TZNAME:CEST
DTSTART:20270328T010000
END:DAYLIGHT
BEGIN:STANDARD
TZOFFSETFROM:+0200
TZOFFSETTO:+0100
TZNAME:CET
DTSTART:20271031T010000
END:STANDARD
END:VTIMEZONE
BEGIN:VEVENT
DTSTART;TZID=Europe/Berlin:20260627T193000
DTEND;TZID=Europe/Berlin:20260627T220000
DTSTAMP:20260421T212622
CREATED:20260324T100758Z
LAST-MODIFIED:20260324T100758Z
UID:10001914-1782588600-1782597600@lueneburgs-lieblinge.de
SUMMARY:Lüneburger KuSo: Dominik Eulberg | Prachtliebe & Wunderfakten
DESCRIPTION:Erlebt Dominik Eulberg live im Kurpark Lüneburg – wo elektronische Musik auf Natur trifft! Mit seiner audiovisuellen Biodiversitätsshow „Prachtliebe & Wunderfakten“ macht der international erfolgreiche DJ und Produzent die Vielfalt des Lebens hör- und sichtbar. Vogelstimmen auf dem Synthesizer\, beeindruckende Naturaufnahmen und seine charakteristische Klangkunst verbinden sich zu einem immersiven Erlebnis für Herz\, Hirn und Sinne. \nEulberg zeigt: „Wir schützen nur\, was wir auch schätzen.“ Sein Ziel ist es\, das Publikum für die Schönheit der Natur zu begeistern und die Biodiversität erlebbar zu machen – ob Naturfreak\, Musikfan oder neugieriger Entdecker. \nEin paar Fakten: \n\nElektronische Musik trifft Naturwissenschaft\nAudiovisuelle Show mit Musikvideos von renommierten Filmemachern\nVogelstimmen auf dem Synthesizer\nEmotionales\, visuelles und akustisches Storytelling\nEin Erlebnis für alle Altersgruppen\, Naturfans und Musikliebhaber\n\nTickets: Hier buchenEinlass: ca. 18:30 Uhr | Beginn: 19:30 Uhr
URL:https://lueneburgs-lieblinge.de/veranstaltungen/lueneburger-kuso-dominik-eulberg-prachtliebe-wunderfakten/
LOCATION:Konzertmuschel im Kurpark\, Uelzener Str. 45\, Lüneburg\, Niedersachsen\, 21335
CATEGORIES:Konzerte,Kunst & Kultur
ATTACH;FMTTYPE=image/jpeg:https://lueneburgs-lieblinge.de/wp-content/uploads/LL-Instgram-Highlights-Icons-17.jpg
ORGANIZER;CN="Campus Management GmbH":MAILTO:info@campuslueneburg.de
END:VEVENT
BEGIN:VEVENT
DTSTART;TZID=Europe/Berlin:20260723T193000
DTEND;TZID=Europe/Berlin:20260723T220000
DTSTAMP:20260421T212623
CREATED:20260324T105119Z
LAST-MODIFIED:20260324T105119Z
UID:10001916-1784835000-1784844000@lueneburgs-lieblinge.de
SUMMARY:Lüneburger KuSo: Miss Allie
DESCRIPTION:Humorvolle Songs\, scharfsinnige Texte und charmante Entertainerin \nErlebt Miss Allie\, eine der witzigsten und talentiertesten Singer-Songwriterinnen im deutschsprachigen Raum\, live in Lüneburg! Ihre Konzerte verbinden modernes Liedermaching mit Humor\, Sozialkritik und jeder Menge Interaktion – spontane Anekdoten und persönliche Geschichten inklusive. \nMit ihren Alben wie „Funny Bones“\, Auftritten bei ARTE Concert\, und gemeinsamen Shows mit Carolin Kebekusbegeistert sie Publikum in Deutschland\, Österreich und der Schweiz gleichermaßen. Olli Schulz lobte ihr letztes Album sogar im Podcast mit Jan Böhmermann – eine Künstlerin\, die musikalisches Talent und Entertainment auf höchstem Niveau vereint. \nEin paar Fakten: \n\nModernes Liedermaching mit Humor & sozialkritischen Texten\nSpontane Interaktion & persönliche Geschichten live auf der Bühne\nZahlreiche TV-\, Radio- und Live-Erfahrungen\n4. Album und auf großer Paradiesvogel-Tour in Deutschland\, Österreich und der Schweiz.\n\nEinlass: ca. 18:30 Uhr | Beginn: 19:30 UhrTickets: Hier buchen
URL:https://lueneburgs-lieblinge.de/veranstaltungen/lueneburger-kuso-miss-allie/
LOCATION:Konzertmuschel im Kurpark\, Uelzener Str. 45\, Lüneburg\, Niedersachsen\, 21335
CATEGORIES:Konzerte
ATTACH;FMTTYPE=image/jpeg:https://lueneburgs-lieblinge.de/wp-content/uploads/LL-Instgram-Highlights-Icons-19.jpg
ORGANIZER;CN="Campus Management GmbH":MAILTO:info@campuslueneburg.de
END:VEVENT
BEGIN:VEVENT
DTSTART;TZID=Europe/Berlin:20260812T190000
DTEND;TZID=Europe/Berlin:20260812T220000
DTSTAMP:20260421T212623
CREATED:20260324T105952Z
LAST-MODIFIED:20260324T105952Z
UID:10001917-1786561200-1786572000@lueneburgs-lieblinge.de
SUMMARY:Lüneburger KuSo: Ein Sommernachtstraum
DESCRIPTION:Ein Sommernachtstraum – Open-Air im Kurpark LüneburgPopkomödie frei nach William Shakespeare \nErlebt „Ein Sommernachtstraum“ als zauberhafte Popkomödie\, inszeniert vom Theater Lüneburg in Kooperation mit dem Lüneburger Kultursommer. Gregor Müller und Philip Richert bringen Shakespeares Klassiker mit Humor\, Herz und Musik auf die Bühne – eine unvergessliche Sommernacht für Groß und Klein. \nDie Liebeswirren von Hermia\, Lysander\, Demetrius und Helena treffen auf die magische Welt von Oberon\, Titania und Puck\, während ein Dorfensemble ein Stück für die Hochzeit probt – voller Komik\, Chaos und überraschender Wendungen. Die eigens komponierte Musik von Olaf Niebuhr und das Kostümbild von Swana Gutke sorgen für visuelles und akustisches Vergnügen. \nTäglicher Beginn: 19:00 Uhr | Ende: ca. 22:00 UhrTickets: Hier buchen
URL:https://lueneburgs-lieblinge.de/veranstaltungen/lueneburger-kuso-ein-sommernachtstraum/2026-08-12/
LOCATION:Kurpark\, Uelzener Str. 45\, Lüneburg\, 21335
CATEGORIES:Kunst & Kultur
ATTACH;FMTTYPE=image/jpeg:https://lueneburgs-lieblinge.de/wp-content/uploads/LL-Instgram-Highlights-Icons-20.jpg
ORGANIZER;CN="Campus Management GmbH":MAILTO:info@campuslueneburg.de
END:VEVENT
BEGIN:VEVENT
DTSTART;TZID=Europe/Berlin:20260813T190000
DTEND;TZID=Europe/Berlin:20260813T220000
DTSTAMP:20260421T212623
CREATED:20260324T105952Z
LAST-MODIFIED:20260324T105952Z
UID:10001918-1786647600-1786658400@lueneburgs-lieblinge.de
SUMMARY:Lüneburger KuSo: Ein Sommernachtstraum
DESCRIPTION:Ein Sommernachtstraum – Open-Air im Kurpark LüneburgPopkomödie frei nach William Shakespeare \nErlebt „Ein Sommernachtstraum“ als zauberhafte Popkomödie\, inszeniert vom Theater Lüneburg in Kooperation mit dem Lüneburger Kultursommer. Gregor Müller und Philip Richert bringen Shakespeares Klassiker mit Humor\, Herz und Musik auf die Bühne – eine unvergessliche Sommernacht für Groß und Klein. \nDie Liebeswirren von Hermia\, Lysander\, Demetrius und Helena treffen auf die magische Welt von Oberon\, Titania und Puck\, während ein Dorfensemble ein Stück für die Hochzeit probt – voller Komik\, Chaos und überraschender Wendungen. Die eigens komponierte Musik von Olaf Niebuhr und das Kostümbild von Swana Gutke sorgen für visuelles und akustisches Vergnügen. \nTäglicher Beginn: 19:00 Uhr | Ende: ca. 22:00 UhrTickets: Hier buchen
URL:https://lueneburgs-lieblinge.de/veranstaltungen/lueneburger-kuso-ein-sommernachtstraum/2026-08-13/
LOCATION:Kurpark\, Uelzener Str. 45\, Lüneburg\, 21335
CATEGORIES:Kunst & Kultur
ATTACH;FMTTYPE=image/jpeg:https://lueneburgs-lieblinge.de/wp-content/uploads/LL-Instgram-Highlights-Icons-20.jpg
ORGANIZER;CN="Campus Management GmbH":MAILTO:info@campuslueneburg.de
END:VEVENT
BEGIN:VEVENT
DTSTART;TZID=Europe/Berlin:20260814T190000
DTEND;TZID=Europe/Berlin:20260814T220000
DTSTAMP:20260421T212623
CREATED:20260324T105952Z
LAST-MODIFIED:20260324T105952Z
UID:10001919-1786734000-1786744800@lueneburgs-lieblinge.de
SUMMARY:Lüneburger KuSo: Ein Sommernachtstraum
DESCRIPTION:Ein Sommernachtstraum – Open-Air im Kurpark LüneburgPopkomödie frei nach William Shakespeare \nErlebt „Ein Sommernachtstraum“ als zauberhafte Popkomödie\, inszeniert vom Theater Lüneburg in Kooperation mit dem Lüneburger Kultursommer. Gregor Müller und Philip Richert bringen Shakespeares Klassiker mit Humor\, Herz und Musik auf die Bühne – eine unvergessliche Sommernacht für Groß und Klein. \nDie Liebeswirren von Hermia\, Lysander\, Demetrius und Helena treffen auf die magische Welt von Oberon\, Titania und Puck\, während ein Dorfensemble ein Stück für die Hochzeit probt – voller Komik\, Chaos und überraschender Wendungen. Die eigens komponierte Musik von Olaf Niebuhr und das Kostümbild von Swana Gutke sorgen für visuelles und akustisches Vergnügen. \nTäglicher Beginn: 19:00 Uhr | Ende: ca. 22:00 UhrTickets: Hier buchen
URL:https://lueneburgs-lieblinge.de/veranstaltungen/lueneburger-kuso-ein-sommernachtstraum/2026-08-14/
LOCATION:Kurpark\, Uelzener Str. 45\, Lüneburg\, 21335
CATEGORIES:Kunst & Kultur
ATTACH;FMTTYPE=image/jpeg:https://lueneburgs-lieblinge.de/wp-content/uploads/LL-Instgram-Highlights-Icons-20.jpg
ORGANIZER;CN="Campus Management GmbH":MAILTO:info@campuslueneburg.de
END:VEVENT
BEGIN:VEVENT
DTSTART;TZID=Europe/Berlin:20260815T190000
DTEND;TZID=Europe/Berlin:20260815T220000
DTSTAMP:20260421T212623
CREATED:20260324T105952Z
LAST-MODIFIED:20260324T105952Z
UID:10001920-1786820400-1786831200@lueneburgs-lieblinge.de
SUMMARY:Lüneburger KuSo: Ein Sommernachtstraum
DESCRIPTION:Ein Sommernachtstraum – Open-Air im Kurpark LüneburgPopkomödie frei nach William Shakespeare \nErlebt „Ein Sommernachtstraum“ als zauberhafte Popkomödie\, inszeniert vom Theater Lüneburg in Kooperation mit dem Lüneburger Kultursommer. Gregor Müller und Philip Richert bringen Shakespeares Klassiker mit Humor\, Herz und Musik auf die Bühne – eine unvergessliche Sommernacht für Groß und Klein. \nDie Liebeswirren von Hermia\, Lysander\, Demetrius und Helena treffen auf die magische Welt von Oberon\, Titania und Puck\, während ein Dorfensemble ein Stück für die Hochzeit probt – voller Komik\, Chaos und überraschender Wendungen. Die eigens komponierte Musik von Olaf Niebuhr und das Kostümbild von Swana Gutke sorgen für visuelles und akustisches Vergnügen. \nTäglicher Beginn: 19:00 Uhr | Ende: ca. 22:00 UhrTickets: Hier buchen
URL:https://lueneburgs-lieblinge.de/veranstaltungen/lueneburger-kuso-ein-sommernachtstraum/2026-08-15/
LOCATION:Kurpark\, Uelzener Str. 45\, Lüneburg\, 21335
CATEGORIES:Kunst & Kultur
ATTACH;FMTTYPE=image/jpeg:https://lueneburgs-lieblinge.de/wp-content/uploads/LL-Instgram-Highlights-Icons-20.jpg
ORGANIZER;CN="Campus Management GmbH":MAILTO:info@campuslueneburg.de
END:VEVENT
BEGIN:VEVENT
DTSTART;TZID=Europe/Berlin:20260816T190000
DTEND;TZID=Europe/Berlin:20260816T220000
DTSTAMP:20260421T212623
CREATED:20260324T105952Z
LAST-MODIFIED:20260324T105952Z
UID:10001921-1786906800-1786917600@lueneburgs-lieblinge.de
SUMMARY:Lüneburger KuSo: Ein Sommernachtstraum
DESCRIPTION:Ein Sommernachtstraum – Open-Air im Kurpark LüneburgPopkomödie frei nach William Shakespeare \nErlebt „Ein Sommernachtstraum“ als zauberhafte Popkomödie\, inszeniert vom Theater Lüneburg in Kooperation mit dem Lüneburger Kultursommer. Gregor Müller und Philip Richert bringen Shakespeares Klassiker mit Humor\, Herz und Musik auf die Bühne – eine unvergessliche Sommernacht für Groß und Klein. \nDie Liebeswirren von Hermia\, Lysander\, Demetrius und Helena treffen auf die magische Welt von Oberon\, Titania und Puck\, während ein Dorfensemble ein Stück für die Hochzeit probt – voller Komik\, Chaos und überraschender Wendungen. Die eigens komponierte Musik von Olaf Niebuhr und das Kostümbild von Swana Gutke sorgen für visuelles und akustisches Vergnügen. \nTäglicher Beginn: 19:00 Uhr | Ende: ca. 22:00 UhrTickets: Hier buchen
URL:https://lueneburgs-lieblinge.de/veranstaltungen/lueneburger-kuso-ein-sommernachtstraum/2026-08-16/
LOCATION:Kurpark\, Uelzener Str. 45\, Lüneburg\, 21335
CATEGORIES:Kunst & Kultur
ATTACH;FMTTYPE=image/jpeg:https://lueneburgs-lieblinge.de/wp-content/uploads/LL-Instgram-Highlights-Icons-20.jpg
ORGANIZER;CN="Campus Management GmbH":MAILTO:info@campuslueneburg.de
END:VEVENT
END:VCALENDAR