BEGIN:VCALENDAR
VERSION:2.0
PRODID:-//Lüneburgs Lieblinge - ECPv6.15.20//NONSGML v1.0//EN
CALSCALE:GREGORIAN
METHOD:PUBLISH
X-WR-CALNAME:Lüneburgs Lieblinge
X-ORIGINAL-URL:https://lueneburgs-lieblinge.de
X-WR-CALDESC:Veranstaltungen für Lüneburgs Lieblinge
REFRESH-INTERVAL;VALUE=DURATION:PT1H
X-Robots-Tag:noindex
X-PUBLISHED-TTL:PT1H
BEGIN:VTIMEZONE
TZID:Europe/Berlin
BEGIN:DAYLIGHT
TZOFFSETFROM:+0100
TZOFFSETTO:+0200
TZNAME:CEST
DTSTART:20250330T010000
END:DAYLIGHT
BEGIN:STANDARD
TZOFFSETFROM:+0200
TZOFFSETTO:+0100
TZNAME:CET
DTSTART:20251026T010000
END:STANDARD
BEGIN:DAYLIGHT
TZOFFSETFROM:+0100
TZOFFSETTO:+0200
TZNAME:CEST
DTSTART:20260329T010000
END:DAYLIGHT
BEGIN:STANDARD
TZOFFSETFROM:+0200
TZOFFSETTO:+0100
TZNAME:CET
DTSTART:20261025T010000
END:STANDARD
BEGIN:DAYLIGHT
TZOFFSETFROM:+0100
TZOFFSETTO:+0200
TZNAME:CEST
DTSTART:20270328T010000
END:DAYLIGHT
BEGIN:STANDARD
TZOFFSETFROM:+0200
TZOFFSETTO:+0100
TZNAME:CET
DTSTART:20271031T010000
END:STANDARD
END:VTIMEZONE
BEGIN:VEVENT
DTSTART;TZID=Europe/Berlin:20261029T180000
DTEND;TZID=Europe/Berlin:20261029T200000
DTSTAMP:20260424T123534
CREATED:20260330T103916Z
LAST-MODIFIED:20260330T103916Z
UID:10001952-1793296800-1793304000@lueneburgs-lieblinge.de
SUMMARY:Sommer am Wyndberg
DESCRIPTION:Erlebe den Sommer in Lüneburg in entspannter Atmosphäre bei „Sommer am Wyndberg“ im historischen Ambiente des Wyndberg Hotel – Restaurant – Destille. Von April bis Oktober laden wir dich ein\, den Sommer in vollen Zügen zu genießen: \nIn unserem gemütlichen Außenbereich mit Lounge‑Atmosphäre servieren wir leckere Snacks\, erfrischende Cocktails aus unserer Destille sowie kulinarische Highlights direkt aus dem Planwagen. Dazu sorgt stimmungsvolle Musik für die perfekte Sommerlaune. \nOb du einfach mit Freunden einen Sundowner trinken willst oder den Abend bei gutem Essen ausklingen lässt – „Sommer am Wyndberg“ bietet dir ein sommerliches Erlebnis in zentraler Lage von Lüneburg. Wir empfehlen eine vorherige Reservierung\, damit dein Platz gesichert ist.
URL:https://lueneburgs-lieblinge.de/veranstaltungen/sommer-am-wyndberg/2026-10-29/
LOCATION:WYNDBERG Hotel – Restaurant – Destille\, Egersdorffstraße 1a\, Lüneburg\, 21335
CATEGORIES:Afterwork,Kostenlos,Sonstiges
ATTACH;FMTTYPE=image/webp:https://lueneburgs-lieblinge.de/wp-content/uploads/Wynd13001-Kopie.webp
ORGANIZER;CN="WYNDBERG Hotel %E2%80%93 Restaurant %E2%80%93 Destille":MAILTO:info@wyndberg.de
END:VEVENT
BEGIN:VEVENT
DTSTART;TZID=Europe/Berlin:20261101T110000
DTEND;TZID=Europe/Berlin:20261101T160000
DTSTAMP:20260424T123534
CREATED:20260116T091933Z
LAST-MODIFIED:20260313T144232Z
UID:10001806-1793530800-1793548800@lueneburgs-lieblinge.de
SUMMARY:Lüneflohmarkt Luhmühlen
DESCRIPTION:Der Flohmarkt in Luhmühlen lädt alle Schnäppchenjäger\, Trödelliebhaber und Neugierigen zu einem entspannten Stöber-Erlebnis ein. Ohne Voranmeldung können Besucher einfach vorbeikommen und auf Entdeckungstour gehen – egal ob kleine Schätze\, Vintage-Artikel\, Möbel\, Dekoration oder außergewöhnliche Fundstücke. \nAdresse: Westergellerser Heide 1\, 21394 Westergellersen (bei Lüneburg)\nÖffnungszeiten: 10:00 – 16:00 Uhr \nDer Markt findet in idyllischer Lage statt\, direkt im Grünen\, sodass der Besuch nicht nur zum Einkaufen\, sondern auch zum gemütlichen Bummeln einlädt. Für eine entspannte Pause stehen oft kleine Imbissstände oder Getränke bereit. \nBesuchen Sie den Flohmarkt Luhmühlen und genießen Sie die Vielfalt\, das Flair und die besondere Atmosphäre dieses beliebten Marktes – perfekt für einen entspannten Tagesausflug mit Familie und Freunden.
URL:https://lueneburgs-lieblinge.de/veranstaltungen/lueneflohmarkt-luhmuehlen/2026-11-01/
LOCATION:Luhmühlen Eventgelände\, Westergellerser Heide 1\, Westergellersen\, 21394
CATEGORIES:Flohmarkt
ATTACH;FMTTYPE=image/webp:https://lueneburgs-lieblinge.de/wp-content/uploads/Flohmarkt.webp
ORGANIZER;CN="Matthias Setje-Eilers":MAILTO:info@lueneflohmarkt.de
END:VEVENT
BEGIN:VEVENT
DTSTART;TZID=Europe/Berlin:20261101T130000
DTEND;TZID=Europe/Berlin:20261101T180000
DTSTAMP:20260424T123534
CREATED:20260306T123614Z
LAST-MODIFIED:20260306T123627Z
UID:10001876-1793538000-1793556000@lueneburgs-lieblinge.de
SUMMARY:Lüneburger Blaulichttag
DESCRIPTION:Der vierte und letzte Erlebnis-Sonntag des Jahres steht ganz im Zeichen der vielen Helfer:innen und Retter in der Not. Beim Lüneburger Blaulichttag zeigen Bundeswehr\, Polizei\, Feuerwehr und weitere Organisationen\, wie wichtig ihre Arbeit für die Gesellschaft ist – anschaulich\, unterhaltsam und interaktiv. \nHighlights des Tages: \n\nEinsatzfahrzeuge & Ausrüstung: Feuerwehr\, Polizei\, Bundeswehr und Rettungsdienste präsentieren ihre Technik und Fahrzeuge.\nInfos & Mitmachen: Spannende Einblicke in die Arbeit der Hilfsorganisationen\, Vorführungen und Aktionen für Groß und Klein.\nShopping-Sonntag: Lüneburgs Geschäfte öffnen von 13–18 Uhr – gemütlicher Bummel\, bunte Aktionen und kleine Überraschungen inklusive.\nMarktstände: Frisches Obst & Gemüse\, Käse- und Fleischspezialitäten\, Blumen und vieles mehr.\n\nFür Hilfsorganisationen:Wer am Blaulichttag teilnehmen möchte\, kann sich melden bei: \n\n\nDirk Assmann: dirkassmann@reserveniedersachsen.de \n\n\nDaniel Römer: daniel.roemer@feuerwehrlueneburg.de
URL:https://lueneburgs-lieblinge.de/veranstaltungen/lueneburger-blaulichttag/
LOCATION:Niedersachsen
CATEGORIES:Kostenlos,Mit/Für Kindern,Sonstiges
ATTACH;FMTTYPE=image/webp:https://lueneburgs-lieblinge.de/wp-content/uploads/Blaulichttag.webp
ORGANIZER;CN="L%C3%BCneburg Marketing GmbH":MAILTO:melanie-gitte.lansmann@lueneburg.info
END:VEVENT
END:VCALENDAR